BEGIN:VCALENDAR
VERSION:2.0
CALSCALE:GREGORIAN
PRODID:-//Diputació de Barcelona//DibaCMS//EN
BEGIN:VEVENT
UID:9166
DTSTAMP:20260422T000123
DTSTART:20210802T100000
DTEND:20210806T123000
SUMMARY:Clinics TEC Academy 
LOCATION:
METHOD:PUBLISH
X-WR-CALNAME:vallgorguina@vallgorguina.cat
X-WR-TIMEZONE:Europe/Madrid
DESCRIPTION:
URI:https://www.vallgorguina.cat/actualitat/agenda/clinics-tec-academy-.html
CLASS:PUBLIC
END:VEVENT
END:VCALENDAR
