BEGIN:VCALENDAR
VERSION:2.0
CALSCALE:GREGORIAN
PRODID:-//Diputació de Barcelona//DibaCMS//EN
BEGIN:VEVENT
UID:9171
DTSTAMP:20260422T002205
DTSTART:20210731T220000
DTEND:20210731T235500
SUMMARY:Cantada d'Havaneres amb el grup Peix Fregit
LOCATION:
METHOD:PUBLISH
X-WR-CALNAME:vallgorguina@vallgorguina.cat
X-WR-TIMEZONE:Europe/Madrid
DESCRIPTION:
URI:https://www.vallgorguina.cat/actualitat/agenda/9171-cantada-dhavaneres-amb-el-grup-peix-fregit.html
CLASS:PUBLIC
END:VEVENT
END:VCALENDAR
