BEGIN:VCALENDAR
VERSION:2.0
CALSCALE:GREGORIAN
PRODID:-//Diputació de Barcelona//DibaCMS//EN
BEGIN:VEVENT
UID:9176
DTSTAMP:20260422T015911
DTSTART:20210831T160000
DTEND:20210831T183000
SUMMARY:Visita Bibliobús agost i setembre
LOCATION:
METHOD:PUBLISH
X-WR-CALNAME:vallgorguina@vallgorguina.cat
X-WR-TIMEZONE:Europe/Madrid
DESCRIPTION:
URI:https://www.vallgorguina.cat/actualitat/agenda/visita-bibliobus-agost-i-setembre.html
CLASS:PUBLIC
END:VEVENT
END:VCALENDAR
