BEGIN:VCALENDAR
VERSION:2.0
CALSCALE:GREGORIAN
PRODID:-//Diputació de Barcelona//DibaCMS//EN
BEGIN:VEVENT
UID:9177
DTSTAMP:20260421T235939
DTSTART:20210907T160000
DTEND:20210907T183000
SUMMARY:Visita Bibliobús setembre
LOCATION:
METHOD:PUBLISH
X-WR-CALNAME:vallgorguina@vallgorguina.cat
X-WR-TIMEZONE:Europe/Madrid
DESCRIPTION:
URI:https://www.vallgorguina.cat/actualitat/agenda/visita-bibliobus-setembre.html
CLASS:PUBLIC
END:VEVENT
END:VCALENDAR
