BEGIN:VCALENDAR
VERSION:2.0
CALSCALE:GREGORIAN
PRODID:-//Diputació de Barcelona//DibaCMS//EN
BEGIN:VEVENT
UID:9179
DTSTAMP:20260422T000323
DTSTART:20210921T160000
DTEND:20210921T183000
SUMMARY:Visita Bibliobús setembre 
LOCATION:
METHOD:PUBLISH
X-WR-CALNAME:vallgorguina@vallgorguina.cat
X-WR-TIMEZONE:Europe/Madrid
DESCRIPTION:
URI:https://www.vallgorguina.cat/actualitat/agenda/9179-visita-bibliobus-setembre-.html
CLASS:PUBLIC
END:VEVENT
END:VCALENDAR
