BEGIN:VCALENDAR
VERSION:2.0
CALSCALE:GREGORIAN
PRODID:-//Diputació de Barcelona//DibaCMS//EN
BEGIN:VEVENT
UID:9184
DTSTAMP:20260421T235925
DTSTART:20210807T203000
DTEND:20210807T233000
SUMMARY:Teca&Toca i Mr&Mrs Jones als Fogons del Xeremell
LOCATION:
METHOD:PUBLISH
X-WR-CALNAME:vallgorguina@vallgorguina.cat
X-WR-TIMEZONE:Europe/Madrid
DESCRIPTION:
URI:https://www.vallgorguina.cat/actualitat/agenda/tecaandtoca-i-mrandmrs-jones-als-fogons-del-xeremell.html
CLASS:PUBLIC
END:VEVENT
END:VCALENDAR
