BEGIN:VCALENDAR
VERSION:2.0
CALSCALE:GREGORIAN
PRODID:-//Diputació de Barcelona//DibaCMS//EN
BEGIN:VEVENT
UID:9186
DTSTAMP:20260422T020123
DTSTART:20210828T220000
DTEND:20210828T235500
SUMMARY:Nits Musicals Vallgorguina 
LOCATION:
METHOD:PUBLISH
X-WR-CALNAME:vallgorguina@vallgorguina.cat
X-WR-TIMEZONE:Europe/Madrid
DESCRIPTION:
URI:https://www.vallgorguina.cat/actualitat/agenda/nits-musicals-vallgorguina-.html
CLASS:PUBLIC
END:VEVENT
END:VCALENDAR
