BEGIN:VCALENDAR
VERSION:2.0
CALSCALE:GREGORIAN
PRODID:-//Diputació de Barcelona//DibaCMS//EN
BEGIN:VEVENT
UID:9192
DTSTAMP:20260422T035901
DTSTART:20211019T000000
DTEND:20211019T100000
SUMMARY:Raconet de Vallgorguina: Recollida de voluminosos 
LOCATION:
METHOD:PUBLISH
X-WR-CALNAME:vallgorguina@vallgorguina.cat
X-WR-TIMEZONE:Europe/Madrid
DESCRIPTION:
URI:https://www.vallgorguina.cat/actualitat/agenda/9192-raconet-de-vallgorguina-recollida-de-voluminosos-.html
CLASS:PUBLIC
END:VEVENT
END:VCALENDAR
