BEGIN:VCALENDAR
VERSION:2.0
CALSCALE:GREGORIAN
PRODID:-//Diputació de Barcelona//DibaCMS//EN
BEGIN:VEVENT
UID:9197
DTSTAMP:20260421T233440
DTSTART:20210829T170000
DTEND:20210829T190000
SUMMARY:Cloenda del Torneig de Futbol Sala Infantil
LOCATION:
METHOD:PUBLISH
X-WR-CALNAME:vallgorguina@vallgorguina.cat
X-WR-TIMEZONE:Europe/Madrid
DESCRIPTION:
URI:https://www.vallgorguina.cat/actualitat/agenda/cloenda-del-torneig-de-futbol-sala-infantil.html
CLASS:PUBLIC
END:VEVENT
END:VCALENDAR
