BEGIN:VCALENDAR
VERSION:2.0
CALSCALE:GREGORIAN
PRODID:-//Diputació de Barcelona//DibaCMS//EN
BEGIN:VEVENT
UID:9198
DTSTAMP:20260422T045555
DTSTART:20210818T183000
DTEND:20210818T200000
SUMMARY:Exhibició de Cal·listènia
LOCATION:
METHOD:PUBLISH
X-WR-CALNAME:vallgorguina@vallgorguina.cat
X-WR-TIMEZONE:Europe/Madrid
DESCRIPTION:
URI:https://www.vallgorguina.cat/actualitat/agenda/exhibicio-de-callistenia.html
CLASS:PUBLIC
END:VEVENT
END:VCALENDAR
