BEGIN:VCALENDAR
VERSION:2.0
CALSCALE:GREGORIAN
PRODID:-//Diputació de Barcelona//DibaCMS//EN
BEGIN:VEVENT
UID:9201
DTSTAMP:20260421T214814
DTSTART:20210821T203000
DTEND:20210821T223000
SUMMARY:Concert de Teca & Toca i Mr. & Mss. Jones als Fogons del Xeremell
LOCATION:
METHOD:PUBLISH
X-WR-CALNAME:vallgorguina@vallgorguina.cat
X-WR-TIMEZONE:Europe/Madrid
DESCRIPTION:
URI:https://www.vallgorguina.cat/actualitat/agenda/concert-de-teca-and-toca-i-mr-and-mss-jones-als-fogons-del-xeremell.html
CLASS:PUBLIC
END:VEVENT
END:VCALENDAR
