BEGIN:VCALENDAR
VERSION:2.0
CALSCALE:GREGORIAN
PRODID:-//Diputació de Barcelona//DibaCMS//EN
BEGIN:VEVENT
UID:9206
DTSTAMP:20260421T235142
DTSTART:20210828T203000
DTEND:20210828T233000
SUMMARY:Nou sopar i concert a Els Fogons del Xeremell
LOCATION:
METHOD:PUBLISH
X-WR-CALNAME:vallgorguina@vallgorguina.cat
X-WR-TIMEZONE:Europe/Madrid
DESCRIPTION:
URI:https://www.vallgorguina.cat/actualitat/agenda/nou-sopar-i-concert-a-els-fogons-del-xeremell.html
CLASS:PUBLIC
END:VEVENT
END:VCALENDAR
