BEGIN:VCALENDAR
VERSION:2.0
CALSCALE:GREGORIAN
PRODID:-//Diputació de Barcelona//DibaCMS//EN
BEGIN:VEVENT
UID:9211
DTSTAMP:20260422T000136
DTSTART:20210924T223000
DTEND:20210924T225500
SUMMARY:Festa Major 2021 Orquestra Rosaleda
LOCATION:
METHOD:PUBLISH
X-WR-CALNAME:vallgorguina@vallgorguina.cat
X-WR-TIMEZONE:Europe/Madrid
DESCRIPTION:
URI:https://www.vallgorguina.cat/actualitat/agenda/festa-major-2021-orquestra-rosaleda.html
CLASS:PUBLIC
END:VEVENT
END:VCALENDAR
