BEGIN:VCALENDAR
VERSION:2.0
CALSCALE:GREGORIAN
PRODID:-//Diputació de Barcelona//DibaCMS//EN
BEGIN:VEVENT
UID:9212
DTSTAMP:20260422T035328
DTSTART:20210925T103000
DTEND:20210925T133000
SUMMARY:Festa Major 2021 Sortida herbes remeieres
LOCATION:
METHOD:PUBLISH
X-WR-CALNAME:vallgorguina@vallgorguina.cat
X-WR-TIMEZONE:Europe/Madrid
DESCRIPTION:
	Imatges 0


URI:https://www.vallgorguina.cat/actualitat/agenda/festa-major-2021-sortida-herbes-remeieres.html
CLASS:PUBLIC
END:VEVENT
END:VCALENDAR
