BEGIN:VCALENDAR
VERSION:2.0
CALSCALE:GREGORIAN
PRODID:-//Diputació de Barcelona//DibaCMS//EN
BEGIN:VEVENT
UID:9213
DTSTAMP:20260422T014858
DTSTART:20210925T170000
DTEND:20210925T200000
SUMMARY:Festa Major 2021 Inflables
LOCATION:
METHOD:PUBLISH
X-WR-CALNAME:vallgorguina@vallgorguina.cat
X-WR-TIMEZONE:Europe/Madrid
DESCRIPTION:
URI:https://www.vallgorguina.cat/actualitat/agenda/festa-major-2021-inflables.html
CLASS:PUBLIC
END:VEVENT
END:VCALENDAR
