BEGIN:VCALENDAR
VERSION:2.0
CALSCALE:GREGORIAN
PRODID:-//Diputació de Barcelona//DibaCMS//EN
BEGIN:VEVENT
UID:9214
DTSTAMP:20260422T015114
DTSTART:20210925T223000
DTEND:20210925T235500
SUMMARY:Festa Major 2021 Concert de màgia orquestra Swing Latino
LOCATION:
METHOD:PUBLISH
X-WR-CALNAME:vallgorguina@vallgorguina.cat
X-WR-TIMEZONE:Europe/Madrid
DESCRIPTION:
URI:https://www.vallgorguina.cat/actualitat/agenda/festa-major-2021-concert-de-magia-orquestra-swing-latino.html
CLASS:PUBLIC
END:VEVENT
END:VCALENDAR
