BEGIN:VCALENDAR
VERSION:2.0
CALSCALE:GREGORIAN
PRODID:-//Diputació de Barcelona//DibaCMS//EN
BEGIN:VEVENT
UID:9216
DTSTAMP:20260422T035942
DTSTART:20210925T230000
DTEND:20210925T230000
SUMMARY:Festa Major 2021 Band The Gresca
LOCATION:
METHOD:PUBLISH
X-WR-CALNAME:vallgorguina@vallgorguina.cat
X-WR-TIMEZONE:Europe/Madrid
DESCRIPTION:
URI:https://www.vallgorguina.cat/actualitat/agenda/festa-major-2021-band-the-gresca.html
CLASS:PUBLIC
END:VEVENT
END:VCALENDAR
