BEGIN:VCALENDAR
VERSION:2.0
CALSCALE:GREGORIAN
PRODID:-//Diputació de Barcelona//DibaCMS//EN
BEGIN:VEVENT
UID:9223
DTSTAMP:20260422T021355
DTSTART:20210924T103000
DTEND:20210924T113000
SUMMARY:Missa de Festa Major
LOCATION:
METHOD:PUBLISH
X-WR-CALNAME:vallgorguina@vallgorguina.cat
X-WR-TIMEZONE:Europe/Madrid
DESCRIPTION:
URI:https://www.vallgorguina.cat/actualitat/agenda/missa-de-festa-major.html
CLASS:PUBLIC
END:VEVENT
END:VCALENDAR
