BEGIN:VCALENDAR
VERSION:2.0
CALSCALE:GREGORIAN
PRODID:-//Diputació de Barcelona//DibaCMS//EN
BEGIN:VEVENT
UID:9232
DTSTAMP:20260422T023013
DTSTART:20211002T190000
DTEND:20211002T203500
SUMMARY:Festa Major 2021 - Lliurament de premis del 8è concurs de pintura ràpida
LOCATION:
METHOD:PUBLISH
X-WR-CALNAME:vallgorguina@vallgorguina.cat
X-WR-TIMEZONE:Europe/Madrid
DESCRIPTION:
URI:https://www.vallgorguina.cat/actualitat/agenda/festa-major-2021-lliurament-de-premis-del-8e-concurs-de-pintura-rapida.html
CLASS:PUBLIC
END:VEVENT
END:VCALENDAR
