BEGIN:VCALENDAR
VERSION:2.0
CALSCALE:GREGORIAN
PRODID:-//Diputació de Barcelona//DibaCMS//EN
BEGIN:VEVENT
UID:9240
DTSTAMP:20260422T042311
DTSTART:20210927T000000
DTEND:20210927T000000
SUMMARY:Curs d'Informàtica Personal
LOCATION:
METHOD:PUBLISH
X-WR-CALNAME:vallgorguina@vallgorguina.cat
X-WR-TIMEZONE:Europe/Madrid
DESCRIPTION:
URI:https://www.vallgorguina.cat/actualitat/agenda/curs-dinformatica-personal.html
CLASS:PUBLIC
END:VEVENT
END:VCALENDAR
