BEGIN:VCALENDAR
VERSION:2.0
CALSCALE:GREGORIAN
PRODID:-//Diputació de Barcelona//DibaCMS//EN
BEGIN:VEVENT
UID:9246
DTSTAMP:20260422T021644
DTSTART:20211005T160000
DTEND:20211005T183000
SUMMARY:Visita bibliobús
LOCATION:
METHOD:PUBLISH
X-WR-CALNAME:vallgorguina@vallgorguina.cat
X-WR-TIMEZONE:Europe/Madrid
DESCRIPTION:
URI:https://www.vallgorguina.cat/actualitat/agenda/9246-visita-bibliobus.html
CLASS:PUBLIC
END:VEVENT
END:VCALENDAR
