BEGIN:VCALENDAR
VERSION:2.0
CALSCALE:GREGORIAN
PRODID:-//Diputació de Barcelona//DibaCMS//EN
BEGIN:VEVENT
UID:9250
DTSTAMP:20260422T084919
DTSTART:20211116T160000
DTEND:20211116T183000
SUMMARY:Visita bibliobús  
LOCATION:
METHOD:PUBLISH
X-WR-CALNAME:vallgorguina@vallgorguina.cat
X-WR-TIMEZONE:Europe/Madrid
DESCRIPTION:
URI:https://www.vallgorguina.cat/actualitat/agenda/9250-visita-bibliobus-.html
CLASS:PUBLIC
END:VEVENT
END:VCALENDAR
