BEGIN:VCALENDAR
VERSION:2.0
CALSCALE:GREGORIAN
PRODID:-//Diputació de Barcelona//DibaCMS//EN
BEGIN:VEVENT
UID:9263
DTSTAMP:20260422T040134
DTSTART:20211016T100000
DTEND:20211016T130000
SUMMARY:Del Museu del Bosc!
LOCATION:
METHOD:PUBLISH
X-WR-CALNAME:vallgorguina@vallgorguina.cat
X-WR-TIMEZONE:Europe/Madrid
DESCRIPTION:
URI:https://www.vallgorguina.cat/actualitat/agenda/del-museu-del-bosc.html
CLASS:PUBLIC
END:VEVENT
END:VCALENDAR
