BEGIN:VCALENDAR
VERSION:2.0
CALSCALE:GREGORIAN
PRODID:-//Diputació de Barcelona//DibaCMS//EN
BEGIN:VEVENT
UID:9264
DTSTAMP:20260422T035356
DTSTART:20211015T213000
DTEND:20211015T235500
SUMMARY:Nit dels Estels 
LOCATION:
METHOD:PUBLISH
X-WR-CALNAME:vallgorguina@vallgorguina.cat
X-WR-TIMEZONE:Europe/Madrid
DESCRIPTION:
URI:https://www.vallgorguina.cat/actualitat/agenda/nit-dels-estels-.html
CLASS:PUBLIC
END:VEVENT
END:VCALENDAR
