BEGIN:VCALENDAR
VERSION:2.0
CALSCALE:GREGORIAN
PRODID:-//Diputació de Barcelona//DibaCMS//EN
BEGIN:VEVENT
UID:9266
DTSTAMP:20260422T042100
DTSTART:20211016T100000
DTEND:20211016T133000
SUMMARY:Taller de tardor d'horta orgànica
LOCATION:
METHOD:PUBLISH
X-WR-CALNAME:vallgorguina@vallgorguina.cat
X-WR-TIMEZONE:Europe/Madrid
DESCRIPTION:
URI:https://www.vallgorguina.cat/actualitat/agenda/taller-de-tardor-dhorta-organica.html
CLASS:PUBLIC
END:VEVENT
END:VCALENDAR
