BEGIN:VCALENDAR
VERSION:2.0
CALSCALE:GREGORIAN
PRODID:-//Diputació de Barcelona//DibaCMS//EN
BEGIN:VEVENT
UID:9293
DTSTAMP:20260422T063727
DTSTART:20211030T170000
DTEND:20211030T190000
SUMMARY:Castanyada de l'Associació Casal Caliu El Dolmen
LOCATION:
METHOD:PUBLISH
X-WR-CALNAME:vallgorguina@vallgorguina.cat
X-WR-TIMEZONE:Europe/Madrid
DESCRIPTION:
URI:https://www.vallgorguina.cat/actualitat/agenda/castanyada-de-lassociacio-casal-caliu-el-dolmen.html
CLASS:PUBLIC
END:VEVENT
END:VCALENDAR
