BEGIN:VCALENDAR
VERSION:2.0
CALSCALE:GREGORIAN
PRODID:-//Diputació de Barcelona//DibaCMS//EN
BEGIN:VEVENT
UID:9297
DTSTAMP:20260422T061426
DTSTART:20211025T180000
DTEND:20211025T200000
SUMMARY:Taller de reflexió i debat socioeducatiu entorn de les cures
LOCATION:
METHOD:PUBLISH
X-WR-CALNAME:vallgorguina@vallgorguina.cat
X-WR-TIMEZONE:Europe/Madrid
DESCRIPTION:
URI:https://www.vallgorguina.cat/actualitat/agenda/taller-de-reflexio-i-debat-socioeducatiu-entorn-de-les-cures.html
CLASS:PUBLIC
END:VEVENT
END:VCALENDAR
