BEGIN:VCALENDAR
VERSION:2.0
CALSCALE:GREGORIAN
PRODID:-//Diputació de Barcelona//DibaCMS//EN
BEGIN:VEVENT
UID:9307
DTSTAMP:20260422T061714
DTSTART:20211102T000000
DTEND:20211102T130000
SUMMARY:Raconet novembre
LOCATION:
METHOD:PUBLISH
X-WR-CALNAME:vallgorguina@vallgorguina.cat
X-WR-TIMEZONE:Europe/Madrid
DESCRIPTION:
URI:https://www.vallgorguina.cat/actualitat/agenda/raconet-novembre.html
CLASS:PUBLIC
END:VEVENT
END:VCALENDAR
