BEGIN:VCALENDAR
VERSION:2.0
CALSCALE:GREGORIAN
PRODID:-//Diputació de Barcelona//DibaCMS//EN
BEGIN:VEVENT
UID:9309
DTSTAMP:20260422T084053
DTSTART:20211207T000000
DTEND:20211207T130000
SUMMARY:Raconet desembre
LOCATION:
METHOD:PUBLISH
X-WR-CALNAME:vallgorguina@vallgorguina.cat
X-WR-TIMEZONE:Europe/Madrid
DESCRIPTION:
URI:https://www.vallgorguina.cat/actualitat/agenda/raconet-desembre.html
CLASS:PUBLIC
END:VEVENT
END:VCALENDAR
