BEGIN:VCALENDAR
VERSION:2.0
CALSCALE:GREGORIAN
PRODID:-//Diputació de Barcelona//DibaCMS//EN
BEGIN:VEVENT
UID:9314
DTSTAMP:20260422T044535
DTSTART:20211030T100000
DTEND:20211030T120000
SUMMARY:Entrenament de petanca a la plaça de la Vila
LOCATION:
METHOD:PUBLISH
X-WR-CALNAME:vallgorguina@vallgorguina.cat
X-WR-TIMEZONE:Europe/Madrid
DESCRIPTION:
URI:https://www.vallgorguina.cat/actualitat/agenda/entrenament-de-petanca-a-la-placa-de-la-vila.html
CLASS:PUBLIC
END:VEVENT
END:VCALENDAR
