BEGIN:VCALENDAR
VERSION:2.0
CALSCALE:GREGORIAN
PRODID:-//Diputació de Barcelona//DibaCMS//EN
BEGIN:VEVENT
UID:9315
DTSTAMP:20260422T081718
DTSTART:20211113T100000
DTEND:20211113T123000
SUMMARY:Saps com funciona una granja biodinàmica?
LOCATION:
METHOD:PUBLISH
X-WR-CALNAME:vallgorguina@vallgorguina.cat
X-WR-TIMEZONE:Europe/Madrid
DESCRIPTION:
URI:https://www.vallgorguina.cat/actualitat/agenda/saps-com-funciona-una-granja-biodinamica.html
CLASS:PUBLIC
END:VEVENT
END:VCALENDAR
