BEGIN:VCALENDAR
VERSION:2.0
CALSCALE:GREGORIAN
PRODID:-//Diputació de Barcelona//DibaCMS//EN
BEGIN:VEVENT
UID:9319
DTSTAMP:20260422T045135
DTSTART:20211030T090000
DTEND:20211030T130000
SUMMARY:BiciCívic: Jornades de convivència al Parc
LOCATION:
METHOD:PUBLISH
X-WR-CALNAME:vallgorguina@vallgorguina.cat
X-WR-TIMEZONE:Europe/Madrid
DESCRIPTION:
URI:https://www.vallgorguina.cat/actualitat/agenda/bicicivic-jornades-de-convivencia-al-parc.html
CLASS:PUBLIC
END:VEVENT
END:VCALENDAR
