BEGIN:VCALENDAR
VERSION:2.0
CALSCALE:GREGORIAN
PRODID:-//Diputació de Barcelona//DibaCMS//EN
BEGIN:VEVENT
UID:9320
DTSTAMP:20260422T083205
DTSTART:20211113T090000
DTEND:20211113T130000
SUMMARY:BiciCívic: Jornades al Parc 
LOCATION:Punt de trobada: Hortsavinyà (Montnegre, Tordera) 
METHOD:PUBLISH
X-WR-CALNAME:vallgorguina@vallgorguina.cat
X-WR-TIMEZONE:Europe/Madrid
DESCRIPTION:
URI:https://www.vallgorguina.cat/actualitat/agenda/bicicivic-jornades-al-parc-.html
CLASS:PUBLIC
END:VEVENT
END:VCALENDAR
