BEGIN:VCALENDAR
VERSION:2.0
CALSCALE:GREGORIAN
PRODID:-//Diputació de Barcelona//DibaCMS//EN
BEGIN:VEVENT
UID:9336
DTSTAMP:20260422T102138
DTSTART:20211120T170000
DTEND:20211120T200000
SUMMARY:Hall Escape
LOCATION:Espai de La Fàbrica (Ctra. Nova, 119, Vallgorguina) 
METHOD:PUBLISH
X-WR-CALNAME:vallgorguina@vallgorguina.cat
X-WR-TIMEZONE:Europe/Madrid
DESCRIPTION:17h. Sessió Júnior (d'11 a 14 anys)

19h. Sessió Sènior (a partir de 14 anys)


	Grups de 6 o 7 participants
	Cal inscripció prèvia (individual o grup) a vallgorguina@vallgorguina.cat
	Cal emplenar l'autorització de menors (obligatori)
	Cal portar mascareta mentre duri l'activitat


Durada: cada sessió 60 minuts aproximadament

URI:https://www.vallgorguina.cat/actualitat/agenda/hall-escape.html
CLASS:PUBLIC
END:VEVENT
END:VCALENDAR
