BEGIN:VCALENDAR
VERSION:2.0
CALSCALE:GREGORIAN
PRODID:-//Diputació de Barcelona//DibaCMS//EN
BEGIN:VEVENT
UID:9339
DTSTAMP:20260422T101935
DTSTART:20211212T113000
DTEND:20211212T140000
SUMMARY:Anem a buscar el tió
LOCATION:
METHOD:PUBLISH
X-WR-CALNAME:vallgorguina@vallgorguina.cat
X-WR-TIMEZONE:Europe/Madrid
DESCRIPTION:
URI:https://www.vallgorguina.cat/actualitat/agenda/9339-anem-a-buscar-el-tio.html
CLASS:PUBLIC
END:VEVENT
END:VCALENDAR
