BEGIN:VCALENDAR
VERSION:2.0
CALSCALE:GREGORIAN
PRODID:-//Diputació de Barcelona//DibaCMS//EN
BEGIN:VEVENT
UID:9352
DTSTAMP:20260422T084849
DTSTART:20211127T110000
DTEND:20211127T130000
SUMMARY:Sortida remeiera per enfortir el sistema respiratori
LOCATION:
METHOD:PUBLISH
X-WR-CALNAME:vallgorguina@vallgorguina.cat
X-WR-TIMEZONE:Europe/Madrid
DESCRIPTION:
URI:https://www.vallgorguina.cat/actualitat/agenda/sortida-remeiera-per-enfortir-el-sistema-respiratori.html
CLASS:PUBLIC
END:VEVENT
END:VCALENDAR
