BEGIN:VCALENDAR
VERSION:2.0
CALSCALE:GREGORIAN
PRODID:-//Diputació de Barcelona//DibaCMS//EN
BEGIN:VEVENT
UID:9370
DTSTAMP:20260422T083942
DTSTART:20211130T103000
DTEND:20211130T113000
SUMMARY:Missa de Sant Andreu
LOCATION:
METHOD:PUBLISH
X-WR-CALNAME:vallgorguina@vallgorguina.cat
X-WR-TIMEZONE:Europe/Madrid
DESCRIPTION:
URI:https://www.vallgorguina.cat/actualitat/agenda/missa-de-sant-andreu.html
CLASS:PUBLIC
END:VEVENT
END:VCALENDAR
