BEGIN:VCALENDAR
VERSION:2.0
CALSCALE:GREGORIAN
PRODID:-//Diputació de Barcelona//DibaCMS//EN
BEGIN:VEVENT
UID:9374
DTSTAMP:20260422T084449
DTSTART:20211211T100000
DTEND:20211211T133000
SUMMARY:Tió Solidari
LOCATION:
METHOD:PUBLISH
X-WR-CALNAME:vallgorguina@vallgorguina.cat
X-WR-TIMEZONE:Europe/Madrid
DESCRIPTION:
URI:https://www.vallgorguina.cat/actualitat/agenda/tio-solidari.html
CLASS:PUBLIC
END:VEVENT
END:VCALENDAR
