BEGIN:VCALENDAR
VERSION:2.0
CALSCALE:GREGORIAN
PRODID:-//Diputació de Barcelona//DibaCMS//EN
BEGIN:VEVENT
UID:9385
DTSTAMP:20260422T103347
DTSTART:20211217T190000
DTEND:20211217T210000
SUMMARY:Concert de Nadal de l'Escola de Música Microsons
LOCATION:
METHOD:PUBLISH
X-WR-CALNAME:vallgorguina@vallgorguina.cat
X-WR-TIMEZONE:Europe/Madrid
DESCRIPTION:
URI:https://www.vallgorguina.cat/actualitat/agenda/concert-de-nadal-de-lescola-de-musica-microsons.html
CLASS:PUBLIC
END:VEVENT
END:VCALENDAR
