BEGIN:VCALENDAR
VERSION:2.0
CALSCALE:GREGORIAN
PRODID:-//Diputació de Barcelona//DibaCMS//EN
BEGIN:VEVENT
UID:9421
DTSTAMP:20260422T122146
DTSTART:20220116T180000
DTEND:20220116T193000
SUMMARY:Cinema «El Padre»
LOCATION:
METHOD:PUBLISH
X-WR-CALNAME:vallgorguina@vallgorguina.cat
X-WR-TIMEZONE:Europe/Madrid
DESCRIPTION:
URI:https://www.vallgorguina.cat/actualitat/agenda/cinema-el-padre.html
CLASS:PUBLIC
END:VEVENT
END:VCALENDAR
