BEGIN:VCALENDAR
VERSION:2.0
CALSCALE:GREGORIAN
PRODID:-//Diputació de Barcelona//DibaCMS//EN
BEGIN:VEVENT
UID:9423
DTSTAMP:20260422T134442
DTSTART:20220205T080000
DTEND:20220205T160000
SUMMARY:Raid Hípic Vallgorguina
LOCATION:
METHOD:PUBLISH
X-WR-CALNAME:vallgorguina@vallgorguina.cat
X-WR-TIMEZONE:Europe/Madrid
DESCRIPTION:
URI:https://www.vallgorguina.cat/actualitat/agenda/raid-hipic-vallgorguina.html
CLASS:PUBLIC
END:VEVENT
END:VCALENDAR
