BEGIN:VCALENDAR
VERSION:2.0
CALSCALE:GREGORIAN
PRODID:-//Diputació de Barcelona//DibaCMS//EN
BEGIN:VEVENT
UID:9433
DTSTAMP:20260422T121214
DTSTART:20220130T180000
DTEND:20220130T200000
SUMMARY:cinema Richard Jewell
LOCATION:
METHOD:PUBLISH
X-WR-CALNAME:vallgorguina@vallgorguina.cat
X-WR-TIMEZONE:Europe/Madrid
DESCRIPTION:
URI:https://www.vallgorguina.cat/actualitat/agenda/cinema-richard-jewell.html
CLASS:PUBLIC
END:VEVENT
END:VCALENDAR
