BEGIN:VCALENDAR
VERSION:2.0
CALSCALE:GREGORIAN
PRODID:-//Diputació de Barcelona//DibaCMS//EN
BEGIN:VEVENT
UID:9436
DTSTAMP:20260422T173205
DTSTART:20220226T170000
DTEND:20220226T200000
SUMMARY:Rua de Carnestoltes 2022
LOCATION:
METHOD:PUBLISH
X-WR-CALNAME:vallgorguina@vallgorguina.cat
X-WR-TIMEZONE:Europe/Madrid
DESCRIPTION:
URI:https://www.vallgorguina.cat/actualitat/agenda/rua-de-carnestoltes-2022.html
CLASS:PUBLIC
END:VEVENT
END:VCALENDAR
