BEGIN:VCALENDAR
VERSION:2.0
CALSCALE:GREGORIAN
PRODID:-//Diputació de Barcelona//DibaCMS//EN
BEGIN:VEVENT
UID:9448
DTSTAMP:20260422T123020
DTSTART:20220213T180000
DTEND:20220213T200000
SUMMARY:Cinema: Falling
LOCATION:
METHOD:PUBLISH
X-WR-CALNAME:vallgorguina@vallgorguina.cat
X-WR-TIMEZONE:Europe/Madrid
DESCRIPTION:
URI:https://www.vallgorguina.cat/actualitat/agenda/cinema-falling.html
CLASS:PUBLIC
END:VEVENT
END:VCALENDAR
