BEGIN:VCALENDAR
VERSION:2.0
CALSCALE:GREGORIAN
PRODID:-//Diputació de Barcelona//DibaCMS//EN
BEGIN:VEVENT
UID:9462
DTSTAMP:20260422T154554
DTSTART:20220223T000000
DTEND:20220223T000000
SUMMARY:Cinema - Sueños de Libertad
LOCATION:
METHOD:PUBLISH
X-WR-CALNAME:vallgorguina@vallgorguina.cat
X-WR-TIMEZONE:Europe/Madrid
DESCRIPTION:
URI:https://www.vallgorguina.cat/actualitat/agenda/cinema-suenos-de-libertad.html
CLASS:PUBLIC
END:VEVENT
END:VCALENDAR
