BEGIN:VCALENDAR
VERSION:2.0
CALSCALE:GREGORIAN
PRODID:-//Diputació de Barcelona//DibaCMS//EN
BEGIN:VEVENT
UID:9463
DTSTAMP:20260422T175652
DTSTART:20220227T180000
DTEND:20220227T200000
SUMMARY:Cinema - Sueños de Libertad
LOCATION:
METHOD:PUBLISH
X-WR-CALNAME:vallgorguina@vallgorguina.cat
X-WR-TIMEZONE:Europe/Madrid
DESCRIPTION:
URI:https://www.vallgorguina.cat/actualitat/agenda/9463-cinema-suenos-de-libertad.html
CLASS:PUBLIC
END:VEVENT
END:VCALENDAR
