BEGIN:VCALENDAR
VERSION:2.0
CALSCALE:GREGORIAN
PRODID:-//Diputació de Barcelona//DibaCMS//EN
BEGIN:VEVENT
UID:9482
DTSTAMP:20260422T142131
DTSTART:20220313T180000
DTEND:20220313T200000
SUMMARY:Cinema Manchester al mar
LOCATION:
METHOD:PUBLISH
X-WR-CALNAME:vallgorguina@vallgorguina.cat
X-WR-TIMEZONE:Europe/Madrid
DESCRIPTION:
URI:https://www.vallgorguina.cat/actualitat/agenda/cinema-manchester-al-mar.html
CLASS:PUBLIC
END:VEVENT
END:VCALENDAR
