BEGIN:VCALENDAR
VERSION:2.0
CALSCALE:GREGORIAN
PRODID:-//Diputació de Barcelona//DibaCMS//EN
BEGIN:VEVENT
UID:9491
DTSTAMP:20260422T193255
DTSTART:20220326T103000
DTEND:20220326T123000
SUMMARY:Ruta patrimoni i bosc de Vallgorguina
LOCATION:
METHOD:PUBLISH
X-WR-CALNAME:vallgorguina@vallgorguina.cat
X-WR-TIMEZONE:Europe/Madrid
DESCRIPTION:
URI:https://www.vallgorguina.cat/actualitat/agenda/ruta-patrimoni-i-bosc-de-vallgorguina.html
CLASS:PUBLIC
END:VEVENT
END:VCALENDAR
