BEGIN:VCALENDAR
VERSION:2.0
CALSCALE:GREGORIAN
PRODID:-//Diputació de Barcelona//DibaCMS//EN
BEGIN:VEVENT
UID:9498
DTSTAMP:20260422T162742
DTSTART:20220430T200000
DTEND:20220430T220000
SUMMARY:Passejades de Primavera
LOCATION:
METHOD:PUBLISH
X-WR-CALNAME:vallgorguina@vallgorguina.cat
X-WR-TIMEZONE:Europe/Madrid
DESCRIPTION:
URI:https://www.vallgorguina.cat/actualitat/agenda/passejades-de-primavera.html
CLASS:PUBLIC
END:VEVENT
END:VCALENDAR
