BEGIN:VCALENDAR
VERSION:2.0
CALSCALE:GREGORIAN
PRODID:-//Diputació de Barcelona//DibaCMS//EN
BEGIN:VEVENT
UID:9527
DTSTAMP:20260422T215842
DTSTART:20220521T093000
DTEND:20220521T130000
SUMMARY:Marxa Nòrdica
LOCATION:
METHOD:PUBLISH
X-WR-CALNAME:vallgorguina@vallgorguina.cat
X-WR-TIMEZONE:Europe/Madrid
DESCRIPTION:
URI:https://www.vallgorguina.cat/actualitat/agenda/9527-marxa-nordica.html
CLASS:PUBLIC
END:VEVENT
END:VCALENDAR
